Workbook

Sheet 2026 Summary
A1: Associated Org Name | B1: Fall 2026 | C1: Gym Availability/ Team Conflicts Received
A2: All Saints Catholic School | B2: 2 | C2: X
A3: Archbishop Bergan Catholic School | B3: 6 | C3: X
A4: Christ the King Catholic School | B4: 10 | C4: X
A5: Holy Cross Catholic School | B5: 6 | C5: X
A6: Holy Name Catholic School | B6: 3 | C6: X
A7: Holy Spirit Plattsmouth | B7: 2 | C7: X
A8: John Paul II | B8: 3 | C8: X
A9: Mary Our Queen Catholic School | B9: 15 | C9: X
A10: Our Lady of Lourdes Catholic School | B10: 3 | C10: X
A11: St. Albert Catholic School | B11: 12 | C11: X
A12: St. Bernadette Catholic School | B12: 4 | C12: X
A13: St. Cecilia Catholic School | B13: 4 | C13: X
... A27: Sts. Peter & Paul Catholic School | B27: 1 | C27: X
A28: Total Teams Registered by Org | B28: =SUM(B2:B27) -> 216
A30: Teams by Grade:
A31: 3rd Grade | B31: ='3rd'!C29 -> 23
A32: 4th Grade | B32: ='4th'!C52 -> 42
A33: 5th Grade | B33: ='5th'!C22+'5th'!C54 -> 40
A34: 6th Grade | B34: ='6th'!C49 -> 39
A35: 7th Grade | B35: ='7th'!C43 -> 33
A36: 8th Grade | B36: ='8th'!C49 -> 39
A37: Total Teams by Grade | B37: =SUM(B31:B36) -> 216

Sheet 3rd
A1: Program Name | B1: Division | C1: Organization | D1: Team Name | E1: Head Coach Name
A2: PAL Volleyball - Fall 2026 | B2: 3rd Grade Group I | C2: Archbishop Bergan Catholic School | D2: Knights 3rd Talkington | E2: Jess Talkington
A3: PAL Volleyball - Fall 2026 | B3: 3rd Grade Group I | C3: Christ the King Catholic School | D3: Crusaders 3rd Purple Kenney | E3: Jaclyn Kenney
A4: PAL Volleyball - Fall 2026 | B4: 3rd Grade Group I | C4: Mary Our Queen Catholic School | D4: Mustangs 3rd McCarville | E4: Ashley McCarville
A5: PAL Volleyball - Fall 2026 | B5: 3rd Grade Group I | C5: St. Albert Catholic School | D5: Saintes 3rd Gold | E5: TBD
A6: PAL Volleyball - Fall 2026 | B6: 3rd Grade Group I | C6: St. Columbkille Catholic School | D6: Crusaders 3rd White Grady | E6: Kahner Grady
A7: PAL Volleyball - Fall 2026 | B7: 3rd Grade Group I | C7: St. Margaret Mary Catholic School | D7: Spartans 3rd Green Hegge | E7: Liz Hegge
A8: PAL Volleyball - Fall 2026 | B8: 3rd Grade Group I | C8: St. Patrick Elkhorn Catholic School | D8: Angels 3rd Cucinotta | E8: Erin Cucinotta
A9: PAL Volleyball - Fall 2026 | B9: 3rd Grade Group I | C9: St. Robert Bellarmine Catholic School | D9: Cardinals 3rd Black Sideris | E9: Emily Sideris
A10: PAL Volleyball - Fall 2026 | B10: 3rd Grade Group I | C10: St. Stephen the Martyr Catholic School | D10: Flames 3rd Gesch | E10: Kathy Gesch
A11: PAL Volleyball - Fall 2026 | B11: 3rd Grade Group I | C11: St. Vincent de Paul Catholic School | D11: Eagles 3rd Audino | E11: Lindsey Audino
A12: PAL Volleyball - Fall 2026 | B12: 3rd Grade Group I | C12: St. Vincent de Paul Catholic School | D12: Eagles 3rd Baumgart | E12: Melissa Baumgart
C13: =COUNTA(C2:C12) -> 11
A15: PAL Volleyball - Fall 2026 | B15: 3rd Grade Group II | C15: Christ the King Catholic School | D15: Crusaders 3rd Gold Hawkins | E15: Beth Hawkins
A16: PAL Volleyball - Fall 2026 | B16: 3rd Grade Group II | C16: Holy Cross Catholic School | D16: Falcons 3rd McElligott | E16: Kari McElligott
A17: PAL Volleyball - Fall 2026 | B17: 3rd Grade Group II | C17: Mary Our Queen Catholic School | D17: Mustangs 3rd Schieffer | E17: Christa Schieffer
A18: PAL Volleyball - Fall 2026 | B18: 3rd Grade Group II | C18: St. Albert Catholic School | D18: Saintes 3rd Green | E18: TBD
A19: PAL Volleyball - Fall 2026 | B19: 3rd Grade Group II | C19: St. Columbkille Catholic School | D19: Crusaders 3rd Blue Geiser | E19: Allison Geiser
A20: PAL Volleyball - Fall 2026 | B20: 3rd Grade Group II | C20: St. Gerald Catholic School | D20: Lions 3rd Nadeau | E20: Misha Nadeau
A21: PAL Volleyball - Fall 2026 | B21: 3rd Grade Group II | C21: St. Margaret Mary Catholic School | D21: Spartans 3rd White | E21: TBD
A22: PAL Volleyball - Fall 2026 | B22: 3rd Grade Group II | C22: St. Patrick Elkhorn Catholic School | D22: Angels 3rd Carlini | E22: Randi Carlini
A23: PAL Volleyball - Fall 2026 | B23: 3rd Grade Group II | C23: St. Pius-St. Leo Catholic School | D23: Panthers 3rd Gold Medeiros | E23: Kenzi Medeiros
A24: PAL Volleyball - Fall 2026 | B24: 3rd Grade Group II | C24: St. Robert Bellarmine Catholic School | D24: Cardinals 3rd Red Olechoski | E24: Ellen Olechoski
A25: PAL Volleyball - Fall 2026 | B25: 3rd Grade Group II | C25: St. Thomas More Catholic School | D25: Bengals 3rd Gold Zahm | E25: Amanda Zahm
A26: PAL Volleyball - Fall 2026 | B26: 3rd Grade Group II | C26: St. Vincent de Paul Catholic School | D26: Eagles 3rd Gonzales | E26: Natalie Gonzales
C27: =COUNTA(C15:C26) -> 12
C29: =C13+C27 -> 23

Sheet 4th
A1: Program Name | B1: Division | C1: Organization | D1: Team Name | E1: Head Coach Name
A2: PAL Volleyball - Fall 2026 | B2: 4th Grade Group I | C2: Archbishop Bergan Catholic School | D2: Knights 4th Sawyer | E2: Bridget Sawyer
A3: PAL Volleyball - Fall 2026 | B3: 4th Grade Group I | C3: Mary Our Queen Catholic School | D3: Mustangs 4th Zajicek | E3: Anna Zajicek
A4: PAL Volleyball - Fall 2026 | B4: 4th Grade Group I | C4: St. Columbkille Catholic School | D4: Crusaders 4th White Bouckaert | E4: Emily Bouckaert
A5: PAL Volleyball - Fall 2026 | B5: 4th Grade Group I | C5: St. James Seton Catholic School | D5: Eagles 4th Toomsen | E5: Rebecca Toomsen
A6: PAL Volleyball - Fall 2026 | B6: 4th Grade Group I | C6: St. Margaret Mary Catholic School | D6: Spartans 4th White Boden | E6: Molly Boden
A7: PAL Volleyball - Fall 2026 | B7: 4th Grade Group I | C7: St. Patrick Elkhorn Catholic School | D7: Angels 4th Krejci | E7: Maggie Krejci
A8: PAL Volleyball - Fall 2026 | B8: 4th Grade Group I | C8: St. Robert Bellarmine Catholic School | D8: Cardinals 4th Red Russell | E8: Erin Russell
A9: PAL Volleyball - Fall 2026 | B9: 4th Grade Group I | C9: St. Stephen the Martyr Catholic School | D9: Flames 4th Burke | E9: Melanie Burke
A10: PAL Volleyball - Fall 2026 | B10: 4th Grade Group I | C10: St. Vincent de Paul Catholic School | D10: Eagles 4th Bonzynski | E10: Blair Bonzynski
A11: PAL Volleyball - Fall 2026 | B11: 4th Grade Group I | C11: St. Wenceslaus Catholic School | D11: Knights 4th Petersen | E11: Ashley Petersen
C12: =COUNTA(C2:C11) -> 10
A14: PAL Volleyball - Fall 2026 | B14: 4th Grade Group II | C14: Christ the King Catholic School | D14: Crusaders 4th Purple Goodman | E14: Lauren Goodman
A15: PAL Volleyball - Fall 2026 | B15: 4th Grade Group II | C15: Mary Our Queen Catholic School | D15: Mustangs 4th Revers | E15: Anna Revers
A16: PAL Volleyball - Fall 2026 | B16: 4th Grade Group II | C16: St. Columbkille Catholic School | D16: Crusaders 4th Gray Kresha | E16: Rob Kresha
A17: PAL Volleyball - Fall 2026 | B17: 4th Grade Group II | C17: St. Gerald Catholic School | D17: Lions 4th White Huber | E17: Kristi Huber
A18: PAL Volleyball - Fall 2026 | B18: 4th Grade Group II | C18: St. James Seton Catholic School | D18: Eagles 4th Lamphere | E18: Abbie Lamphere
A19: PAL Volleyball - Fall 2026 | B19: 4th Grade Group II | C19: St. Patrick Elkhorn Catholic School | D19: Angels 4th Lyons/Gowen | E19: Liz Lyons
A20: PAL Volleyball - Fall 2026 | B20: 4th Grade Group II | C20: St. Robert Bellarmine Catholic School | D20: Cardinals 4th Black Ridder | E20: Abby Ridder
A21: PAL Volleyball - Fall 2026 | B21: 4th Grade Group II | C21: St. Pius-St. Leo Catholic School | D21: Panthers 4th Black B | E21: Mindy Kimble
A22: PAL Volleyball - Fall 2026 | B22: 4th Grade Group II | C22: St. Stephen the Martyr Catholic School | D22: Flames 4th Tauriella | E22: Marcia Tauriella
A23: PAL Volleyball - Fall 2026 | B23: 4th Grade Group II | C23: St. Wenceslaus Catholic School | D23: Knights 4th McCamy | E23: Meghan McCamy
C24: =COUNTA(C14:C23) -> 10
A26: PAL Volleyball - Fall 2026 | B26: 4th Grade Group III | C26: Christ the King Catholic School | D26: Crusaders 4th Gold Goodman | E26: Lauren Goodman
A27: PAL Volleyball - Fall 2026 | B27: 4th Grade Group III | C27: Holy Spirit Plattsmouth | D27: St. John Cardinals 4th | E27: Katie Bronson
A28: PAL Volleyball - Fall 2026 | B28: 4th Grade Group III | C28: St. Albert Catholic School | D28: Saintes 4th Green Ely | E28: April Ely
A29: PAL Volleyball - Fall 2026 | B29: 4th Grade Group III | C29: St. Bernadette Catholic School | D29: Tigers 4th | E29: Mary Beth Wilwerding
A30: PAL Volleyball - Fall 2026 | B30: 4th Grade Group III | C30: St. Columbkille Catholic School | D30: Crusaders 4th Blue Zirngible | E30: Kristy Zirngible
A31: PAL Volleyball - Fall 2026 | B31: 4th Grade Group III | C31: St. Margaret Mary Catholic School | D31: Spartans 4th Green Villier | E31: Margaret Villier
A32: PAL Volleyball - Fall 2026 | B32: 4th Grade Group III | C32: St. Patrick Elkhorn Catholic School | D32: Angels 4th Navin | E32: Kayla Navin
A33: PAL Volleyball - Fall 2026 | B33: 4th Grade Group III | C33: St. Pius-St. Leo Catholic School | D33: Panthers 4th Gold Mota | E33: Ricardo Mota
A34: PAL Volleyball - Fall 2026 | B34: 4th Grade Group III | C34: St. Stephen the Martyr Catholic School | D34: Flames 4th Brummer | E34: Kelly Brummer
A35: PAL Volleyball - Fall 2026 | B35: 4th Grade Group III | C35: St. Vincent de Paul Catholic School | D35: Eagles 4th Luetkenhaus | E35: Pam Luetkenhaus
A36: PAL Volleyball - Fall 2026 | B36: 4th Grade Group III | C36: St. Wenceslaus Catholic School | D36: Knights 4th Hasenjager | E36: Lindsey Hasenjager
C37: =COUNTA(C26:C36) -> 11
A39: PAL Volleyball - Fall 2026 | B39: 4th Grade Group IV | C39: Holy Cross Catholic School | D39: Falcons 4th Smith | E39: Emily Smith
A40: PAL Volleyball - Fall 2026 | B40: 4th Grade Group IV | C40: Holy Name Catholic School | D40: Ramblers 4th Goodman | E40: Katie Goodman
A41: PAL Volleyball - Fall 2026 | B41: 4th Grade Group IV | C41: Mary Our Queen Catholic School | D41: Mustangs 4th Cheney | E41: Amy Cheney
A42: PAL Volleyball - Fall 2026 | B42: 4th Grade Group IV | C42: St. Albert Catholic School | D42: Saintes 4th Gold Elbert | E42: Shane Elbert
A43: PAL Volleyball - Fall 2026 | B43: 4th Grade Group IV | C43: St. Gerald Catholic School | D43: Lions 4th Blue Nadeau | E43: Misha Nadeau
A44: PAL Volleyball - Fall 2026 | B44: 4th Grade Group IV | C44: St. Mary Bellevue Catholic School | D44: Spartans 4th Severa | E44: Aimee Severa
A45: PAL Volleyball - Fall 2026 | B45: 4th Grade Group IV | C45: St. Patrick Elkhorn Catholic School | D45: Angels 4th Emanuel | E45: Teresa Emanuel
A46: PAL Volleyball - Fall 2026 | B46: 4th Grade Group IV | C46: St. Patrick Elkhorn Catholic School | D46: Angels 4th Suing/Werner | E46: Allison Werner
A47: PAL Volleyball - Fall 2026 | B47: 4th Grade Group IV | C47: St. Thomas More Catholic School | D47: Bengals 4th Gold Marco | E47: Stephanie Marco
A48: PAL Volleyball - Fall 2026 | B48: 4th Grade Group IV | C48: St. Vincent de Paul Catholic School | D48: Eagles 4th Weidaur | E48: Danielle Weidaur
A49: PAL Volleyball - Fall 2026 | B49: 4th Grade Group IV | C49: St. Wenceslaus Catholic School | D49: Knights 4th McGuire | E49: Emily McGuire
C50: =COUNTA(C39:C49) -> 11
C52: =C12+C24+C37+C50 -> 42

Sheet 5th
A1: Program Name | B1: Division | C1: Organization | D1: Team Name | E1: Head Coach Name
A2: PAL Volleyball - Fall 2026 | B2: 5th Grade A Group I | C2: Archbishop Bergan Catholic School | D2: Knights 5th Green Delva | E2: Britni Delva
A3: PAL Volleyball - Fall 2026 | B3: 5th Grade A Group I | C3: Christ the King Catholic School | D3: Crusaders 5th Gold Ross | E3: Stefani Ross
A4: PAL Volleyball - Fall 2026 | B4: 5th Grade A Group I | C4: St. Albert Catholic School | D4: Saintes 5th Green Venner | E4: Stef Venner
A5: PAL Volleyball - Fall 2026 | B5: 5th Grade A Group I | C5: St. James Seton Catholic School | D5: Eagles 5th Grove | E5: Jenni Grove
A6: PAL Volleyball - Fall 2026 | B6: 5th Grade A Group I | C6: St. Patrick Elkhorn Catholic School | D6: Angels 5th Gold Emanuel | E6: Teresa Emanuel
A7: PAL Volleyball - Fall 2026 | B7: 5th Grade A Group I | C7: St. Robert Bellarmine Catholic School | D7: Cardinals 5th Harm | E7: Lindsay Harm
A8: PAL Volleyball - Fall 2026 | B8: 5th Grade A Group I | C8: St. Stephen the Martyr Catholic School | D8: Flames 5th Roy | E8: Stacie Roy
A9: PAL Volleyball - Fall 2026 | B9: 5th Grade A Group I | C9: St. Vincent de Paul Catholic School | D9: Eagles 5th Storm | E9: Julia Storm
C10: =COUNTA(C2:C9) -> 8
A12: PAL Volleyball - Fall 2026 | B12: 5th Grade A Group II | C12: Holy Cross Catholic School | D12: Falcons 5th Cunningham | E12: Barb Cunningham
A13: PAL Volleyball - Fall 2026 | B13: 5th Grade A Group II | C13: Mary Our Queen Catholic School | D13: Mustangs 5th Pole | E13: Mallory Pole
A14: PAL Volleyball - Fall 2026 | B14: 5th Grade A Group II | C14: St. Albert Catholic School | D14: Saintes 5th Gold Kohlhaas | E14: Alex Kohlhaas
A15: PAL Volleyball - Fall 2026 | B15: 5th Grade A Group II | C15: St. Columbkille Catholic School | D15: Crusaders 5th Hart | E15: Katie Hart
A16: PAL Volleyball - Fall 2026 | B16: 5th Grade A Group II | C16: St. Robert Bellarmine Catholic School | D16: Cardinals 5th Gutierrez | E16: Annie Gutierrez
A17: PAL Volleyball - Fall 2026 | B17: 5th Grade A Group II | C17: St. Stephen the Martyr Catholic School | D17: Flames 5th Verraneault | E17: Nicole Verraneault
A18: PAL Volleyball - Fall 2026 | B18: 5th Grade A Group II | C18: St. Vincent de Paul Catholic School | D18: Eagles 5th Scholer | E18: Ibby Scholer
A19: PAL Volleyball - Fall 2026 | B19: 5th Grade A Group II | C19: St. Wenceslaus Catholic School | D19: Knights 5th Dilisio | E19: Jen Dilisio
C20: =COUNTA(C12:C19) -> 8
C22: =C10+C20 -> 16
A24: PAL Volleyball - Fall 2026 | B24: 5th Grade B Group I | C24: All Saints Catholic School | D24: Angels 5th B | E24: Eduardo Riera
A25: PAL Volleyball - Fall 2026 | B25: 5th Grade B Group I | C25: John Paul II Academy | D25: Griffins 5th Patil | E25: Theresa Patil
A26: PAL Volleyball - Fall 2026 | B26: 5th Grade B Group I | C26: St. Columbkille Catholic School | D26: Crusaders 5th Collette | E26: Lindsey Collette
A27: PAL Volleyball - Fall 2026 | B27: 5th Grade B Group I | C27: St. Margaret Mary Catholic School | D27: Spartans 5th White Sweeney | E27: Jocelyn Sweeney
A28: PAL Volleyball - Fall 2026 | B28: 5th Grade B Group I | C28: St. Philip Neri Catholic School | D28: Eagles 5th Buchan | E28: Chad Buchan
A29: PAL Volleyball - Fall 2026 | B29: 5th Grade B Group I | C29: St. Pius-St. Leo Catholic School | D29: Panthers 5th Gold George | E29: Jonathan George
A30: PAL Volleyball - Fall 2026 | B30: 5th Grade B Group I | C30: St. Robert Bellarmine Catholic School | D30: Cardinals 5th Potthoff | E30: Meghan Potthoff
A31: PAL Volleyball - Fall 2026 | B31: 5th Grade B Group I | C31: St. Thomas More Catholic School | D31: Bengals 5th Gold Coleman | E31: Stefani Coleman
C32: =COUNTA(C24:C31) -> 8
A34: PAL Volleyball - Fall 2026 | B34: 5th Grade B Group II | C34: Archbishop Bergan Catholic School | D34: Knights 5th White Borisow | E34: Elizabeth Borisow
A35: PAL Volleyball - Fall 2026 | B35: 5th Grade B Group II | C35: Mary Our Queen Catholic School | D35: Mustangs 5th Rempe | E35: Lily Rempe
A36: PAL Volleyball - Fall 2026 | B36: 5th Grade B Group II | C36: St. James Seton Catholic School | D36: Eagles 5th Nadgwick | E36: Sara Nadgwick
A37: PAL Volleyball - Fall 2026 | B37: 5th Grade B Group II | C37: St. Margaret Mary Catholic School | D37: Spartans 5th Green Hernandez | E37: Kellie Hernandez
A38: PAL Volleyball - Fall 2026 | B38: 5th Grade B Group II | C38: St. Pius-St. Leo Catholic School | D38: Panthers 5th Black Aliano | E38: Kristin Aliano
A39: PAL Volleyball - Fall 2026 | B39: 5th Grade B Group II | C39: St. Stephen the Martyr Catholic School | D39: Flames 5th Sturgeon | E39: Ashley Sturgeon
A40: PAL Volleyball - Fall 2026 | B40: 5th Grade B Group II | C40: St. Vincent de Paul Catholic School | D40: Eagles 5th Kahrhoff | E40: Chris Kahrhoff
A41: PAL Volleyball - Fall 2026 | B41: 5th Grade B Group II | C41: St. Wenceslaus Catholic School | D41: Knights 5th Lovercheck | E41: Amanda Lovercheck
C42: =COUNTA(C34:C41) -> 8
A44: PAL Volleyball - Fall 2026 | B44: 5th Grade B Group III | C44: Christ the King Catholic School | D44: Crusaders 5th Purple LaFleur | E44: Steven LaFleur
A45: PAL Volleyball - Fall 2026 | B45: 5th Grade B Group III | C45: Mary Our Queen Catholic School | D45: Mustangs 5th Gegzna | E45: Molly Gegzna
A46: PAL Volleyball - Fall 2026 | B46: 5th Grade B Group III | C46: Our Lady of Lourdes Catholic School | D46: Panthers 5th Russell | E46: Haleigh Russell
A47: PAL Volleyball - Fall 2026 | B47: 5th Grade B Group III | C47: St. Bernadette Catholic School | D47: Tigers 5th | E47: Mary Beth Wilwerding
A48: PAL Volleyball - Fall 2026 | B48: 5th Grade B Group III | C48: St. Mary Bellevue Catholic School | D48: Spartans 5th Eldridge | E48: Josh Eldridge
A49: PAL Volleyball - Fall 2026 | B49: 5th Grade B Group III | C49: St. Patrick Elkhorn Catholic School | D49: Angels 5th Green Nguyen | E49: Stephanie Nguyen
A50: PAL Volleyball - Fall 2026 | B50: 5th Grade B Group III | C50: St. Pius-St. Leo Catholic School | D50: Panthers 5th White Roshone | E50: Katy Roshone
A51: PAL Volleyball - Fall 2026 | B51: 5th Grade B Group III | C51: St. Wenceslaus Catholic School | D51: Knights 5th Laux | E51: Ashlee Laux
C52: =COUNTA(C44:C51) -> 8
C54: =C32+C42+C52 -> 24

Sheet 6th
A1: Program Name | B1: Division | C1: Organization | D1: Team Name | E1: Head Coach Name
A2: PAL Volleyball - Fall 2026 | B2: 6th Grade AAA-AA | C2: Archbishop Bergan Catholic School | D2: Knights White 6th Burbach | E2: Brittany Burbach
A3: PAL Volleyball - Fall 2026 | B3: 6th Grade AAA-AA | C3: Mary Our Queen Catholic School | D3: Mustangs 6th McCarville | E3: Ashley McCarville
A4: PAL Volleyball - Fall 2026 | B4: 6th Grade AAA-AA | C4: St. Columbkille Catholic School | D4: Crusaders 6th Pinkelman | E4: Sarah Pinkelman
A5: PAL Volleyball - Fall 2026 | B5: 6th Grade AAA-AA | C5: St. Patrick Elkhorn Catholic School | D5: Angels 6th Gold Sova | E5: Tami Sova
A6: PAL Volleyball - Fall 2026 | B6: 6th Grade AAA-AA | C6: St. Robert Bellarmine Catholic School | D6: Cardinals 6th Garland | E6: Kim Garland
A7: PAL Volleyball - Fall 2026 | B7: 6th Grade AAA-AA | C7: St. Stephen the Martyr Catholic School | D7: Flames 6th Gillick | E7: Ashley Gillick
A8: PAL Volleyball - Fall 2026 | B8: 6th Grade AAA-AA | C8: St. Vincent de Paul Catholic School | D8: Eagles 6th Peters | E8: Sallie Peters
A9: PAL Volleyball - Fall 2026 | B9: 6th Grade AAA-AA | C9: St. Wenceslaus Catholic School | D9: Knights 6th Dorwart | E9: Michelle Dorwart
C10: =COUNTA(C2:C9) -> 8
A12: PAL Volleyball - Fall 2026 | B12: 6th Grade A | C12: Archbishop Bergan Catholic School | D12: Knights 6th Green Ostdiek | E12: Mandy Ostdiek
A13: PAL Volleyball - Fall 2026 | B13: 6th Grade A | C13: Christ the King Catholic School | D13: Crusaders 6th Gold Robertshaw | E13: Jocelyn Robertshaw
A14: PAL Volleyball - Fall 2026 | B14: 6th Grade A | C14: Mary Our Queen Catholic School | D14: Mustangs 6th O'Brien | E14: Megan O'Brien
A15: PAL Volleyball - Fall 2026 | B15: 6th Grade A | C15: St. Albert Catholic School | D15: Saintes 6th Gold Williams | E15: Kim Williams
A16: PAL Volleyball - Fall 2026 | B16: 6th Grade A | C16: St. Albert Catholic School | D16: Saintes 6th Green Ratcliff | E16: Dana Ratcliff
A17: PAL Volleyball - Fall 2026 | B17: 6th Grade A | C17: St. Columbkille Catholic School | D17: Crusaders 6th Sauter | E17: Brigida Sautter
A18: PAL Volleyball - Fall 2026 | B18: 6th Grade A | C18: St. James Seton Catholic School | D18: Eagles 6th Lamphere | E18: Abbie Lamphere
A19: PAL Volleyball - Fall 2026 | B19: 6th Grade A | C19: St. Margaret Mary Catholic School | D19: Spartans 6th Mohs | E19: Emily Mohs
A20: PAL Volleyball - Fall 2026 | B20: 6th Grade A | C20: St. Patrick Elkhorn Catholic School | D20: Angels 6th Green Schrack | E20: Betsy Schrack
A21: PAL Volleyball - Fall 2026 | B21: 6th Grade A | C21: St. Stephen the Martyr Catholic School | D21: Flames 6th Robak | E21: Erin Robak
A22: PAL Volleyball - Fall 2026 | B22: 6th Grade A | C22: St. Thomas More Catholic School | D22: Tigers 6th Gold Carbonell | E22: Andrea Carbonell
A23: PAL Volleyball - Fall 2026 | B23: 6th Grade A | C23: St. Vincent de Paul Catholic School | D23: Eagles 6th Volpone | E23: Sarah Volpone
A24: PAL Volleyball - Fall 2026 | B24: 6th Grade A | C24: St. Wenceslaus Catholic School | D24: Knights 6th Goldsmith | E24: Kelsey Goldsmith
C25: =COUNTA(C12:C24) -> 13
A27: PAL Volleyball - Fall 2026 | B27: 6th Grade B Group I | C27: Holy Name Catholic School | D27: Ramblers 6th Backstrom | E27: Jaimee Backstrom
A28: PAL Volleyball - Fall 2026 | B28: 6th Grade B Group I | C28: John Paul II Academy | D28: Griffins 6th Patil | E28: Theresa Patil
A29: PAL Volleyball - Fall 2026 | B29: 6th Grade B Group I | C29: Mary Our Queen Catholic School | D29: Mustangs 6th Nielsen | E29: Cheryl Nielsen
A30: PAL Volleyball - Fall 2026 | B30: 6th Grade B Group I | C30: St. Cecilia Catholic School | D30: Cardinals 6th Carlson | E30: Maria Carlson
A31: PAL Volleyball - Fall 2026 | B31: 6th Grade B Group I | C31: St. James Seton Catholic School | D31: Eagles 6th Lawson | E31: Nicole Lawson
A32: PAL Volleyball - Fall 2026 | B32: 6th Grade B Group I | C32: St. Margaret Mary Catholic School | D32: Spartans 6th White | E32: TBD
A33: PAL Volleyball - Fall 2026 | B33: 6th Grade B Group I | C33: St. Mary Bellevue Catholic School | D33: Spartans 6th Willoughby | E33: Maureen Willoughby
A34: PAL Volleyball - Fall 2026 | B34: 6th Grade B Group I | C34: St. Pius-St. Leo Catholic School | D34: Panthers 6th Gold Gurney | E34: Mary Gurney
A35: PAL Volleyball - Fall 2026 | B35: 6th Grade B Group I | C35: St. Vincent de Paul Catholic School | D35: Eagles 6th Volpone | E35: Sarah Volpone
C36: =COUNTA(C27:C35) -> 9
A38: PAL Volleyball - Fall 2026 | B38: 6th Grade B Group II | C38: Holy Cross Catholic School | D38: Falcons 6th McMillan | E38: Phil McMillan
A39: PAL Volleyball - Fall 2026 | B39: 6th Grade B Group II | C39: Holy Spirit Plattsmouth | D39: St. John Cardinals 6th Bronson | E39: Katie Bronson
A40: PAL Volleyball - Fall 2026 | B40: 6th Grade B Group II | C40: St. Cecilia Catholic School | D40: Cardinals 6th Peters | E40: Erin Peters
A41: PAL Volleyball - Fall 2026 | B41: 6th Grade B Group II | C41: St. Columbkille Catholic School | D41: Crusaders 6th Saltz | E41: Kelsey Saltz
A42: PAL Volleyball - Fall 2026 | B42: 6th Grade B Group II | C42: St. Gerald Catholic School | D42: Lions 6th Huber | E42: Kristi Huber
A43: PAL Volleyball - Fall 2026 | B43: 6th Grade B Group II | C43: St. Philip Neri Catholic School | D43: Eagles 6th Buchan | E43: Chad Buchan
A44: PAL Volleyball - Fall 2026 | B44: 6th Grade B Group II | C44: St. Robert Bellarmine Catholic School | D44: Cardinals 6th Fanciullo | E44: Brea Fanciullo
A45: PAL Volleyball - Fall 2026 | B45: 6th Grade B Group II | C45: St. Stephen the Martyr Catholic School | D45: Flames 6th Hill | E45: Mark Hill
A46: PAL Volleyball - Fall 2026 | B46: 6th Grade B Group II | C46: St. Wenceslaus Catholic School | D46: Knights 6th Froschheiser | E46: Erin Froschheiser
C47: =COUNTA(C38:C46) -> 9
C49: =C10+C25+C36+C47 -> 39

Sheet 7th
A1: Program Name | B1: Division | C1: Organization | D1: Team Name | E1: Head Coach Name
A2: PAL Volleyball - Fall 2026 | B2: 7th Grade AAA-AA | C2: St. Columbkille Catholic School | D2: Crusaders 7th Bass | E2: Erin Bass
A3: PAL Volleyball - Fall 2026 | B3: 7th Grade AAA-AA | C3: St. Margaret Mary Catholic School | D3: Spartans 7th Billier | E3: Margaret Villier
A4: PAL Volleyball - Fall 2026 | B4: 7th Grade AAA-AA | C4: St. Patrick Elkhorn Catholic School | D4: Angels 7th Gold Cupich | E4: Melissa Cupich
A5: PAL Volleyball - Fall 2026 | B5: 7th Grade AAA-AA | C5: St. Pius-St. Leo Catholic School | D5: Panthers 7th Gold Medeiros | E5: Kenzi Medeiros
A6: PAL Volleyball - Fall 2026 | B6: 7th Grade AAA-AA | C6: St. Robert Bellarmine Catholic School | D6: Cardinals 7th Green | E6: Jill Green
A7: PAL Volleyball - Fall 2026 | B7: 7th Grade AAA-AA | C7: St. Thomas More Catholic School | D7: Tigers 7th Gold Sova | E7: Lindsey Sova
A8: PAL Volleyball - Fall 2026 | B8: 7th Grade AAA-AA | C8: St. Vincent de Paul Catholic School | D8: Eagles 7th Storm | E8: Julia Storm
A9: PAL Volleyball - Fall 2026 | B9: 7th Grade AAA-AA | C9: St. Vincent de Paul Catholic School | D9: Eagles 7th Dillon | E9: Keri Dillon
A10: PAL Volleyball - Fall 2026 | B10: 7th Grade AAA-AA | C10: St. Wenceslaus Catholic School | D10: Knights 7th McGreer | E10: Steve McGreer
C11: =COUNTA(C2:C10) -> 9
A14: PAL Volleyball - Fall 2026 | B14: 7th Grade A | C14: Holy Cross Catholic School | D14: Falcons 7th Tripp | E14: Christian Tripp
A15: PAL Volleyball - Fall 2026 | B15: 7th Grade A | C15: Mary Our Queen Catholic School | D15: Mustangs 7th Pole | E15: Mallory Pole
A16: PAL Volleyball - Fall 2026 | B16: 7th Grade A | C16: Our Lady of Lourdes Catholic School | D16: Panthers 7th Clements | E16: Violet Clements
A17: PAL Volleyball - Fall 2026 | B17: 7th Grade A | C17: St. Albert Catholic School | D17: Saintes 7th Green Hamilton | E17: Leah Hamilton
A18: PAL Volleyball - Fall 2026 | B18: 7th Grade A | C18: St. Bernadette Catholic School | D18: Tigers 7th | E18: Mary Beth Wilwerding
A19: PAL Volleyball - Fall 2026 | B19: 7th Grade A | C19: St. Cecilia Catholic School | D19: Cardinals 7th Leibert | E19: Denise Leibert
A20: PAL Volleyball - Fall 2026 | B20: 7th Grade A | C20: St. Columbkille Catholic School | D20: Crusaders 7th Sefranek | E20: Bridget Sefranek
A21: PAL Volleyball - Fall 2026 | B21: 7th Grade A | C21: St. Gerald Catholic School | D21: Lions 7th Burdess | E21: Megan Burdess
A22: PAL Volleyball - Fall 2026 | B22: 7th Grade A | C22: St. Patrick Elkhorn Catholic School | D22: Angels 7th Green Ramey | E22: Jen Ramey
A23: PAL Volleyball - Fall 2026 | B23: 7th Grade A | C23: St. Stephen the Martyr Catholic School | D23: Flames 7th Treiber | E23: Amanda Treiber
A24: PAL Volleyball - Fall 2026 | B24: 7th Grade A | C24: St. Stephen the Martyr Catholic School | D24: Flames 7th Herdzina | E24: Steve Herdzina
A25: PAL Volleyball - Fall 2026 | B25: 7th Grade A | C25: St. Wenceslaus Catholic School | D25: Knights 7th Barria | E25: Juan Barria
C26: =COUNTA(C14:C25) -> 12
A29: PAL Volleyball - Fall 2026 | B29: 7th Grade B | C29: All Saints Catholic School | D29: Angels 7th | E29: Eduardo Riera
A30: PAL Volleyball - Fall 2026 | B30: 7th Grade B | C30: Christ the King Catholic School | D30: Crusaders 7th Gold Pecha | E30: Kristine Pecha
A31: PAL Volleyball - Fall 2026 | B31: 7th Grade B | C31: Mary Our Queen Catholic School | D31: Mustangs 7th Kock | E31: Tami Kock
A32: PAL Volleyball - Fall 2026 | B32: 7th Grade B | C32: St. Albert Catholic School | D32: Saintes 7th Gold Hamilton | E32: Leah Hamilton
A33: PAL Volleyball - Fall 2026 | B33: 7th Grade B | C33: St. Gerald Catholic School | D33: Lions 7th Wester | E33: Ashley Wester
A34: PAL Volleyball - Fall 2026 | B34: 7th Grade B | C34: St. James Seton Catholic School | D34: Eagles 7th Gamelin | E34: April Gamelin
A35: PAL Volleyball - Fall 2026 | B35: 7th Grade B | C35: St. Margaret Mary Catholic School | D35: Spartans 7th | E35: TBD
A36: PAL Volleyball - Fall 2026 | B36: 7th Grade B | C36: St. Patrick Elkhorn Catholic School | D36: Angels 7th White Scott | E36: Sarah Scott
A37: PAL Volleyball - Fall 2026 | B37: 7th Grade B | C37: St. Pius-St. Leo Catholic School | D37: Panthers 7th Black Gomez | E37: Gabe Gomez
A38: PAL Volleyball - Fall 2026 | B38: 7th Grade B | C38: St. Thomas More Catholic School | D38: Tigers 7th Black Martin | E38: Kristine Martin
A39: PAL Volleyball - Fall 2026 | B39: 7th Grade B | C39: St. Vincent de Paul Catholic School | D39: Eagles 7th Jones | E39: Brooklyn Jones
A40: PAL Volleyball - Fall 2026 | B40: 7th Grade B | C40: St. Wenceslaus Catholic School | D40: Knights 7th Reeson | E40: Ryleigh Reeson
C41: =COUNTA(C29:C40) -> 12
C43: =C11+C26+C41 -> 33

Sheet 8th
A1: Program Name | B1: Offer Description | C1: Customer Organization | D1: Enrollment - Team Name | E1: Head Coach Name
A2: PAL Volleyball - Fall 2026 | B2: 8th Grade AAA-AA | C2: St. Columbkille Catholic School | D2: Crusaders 8th Sullivan | E2: Courtney Sullivan
A3: PAL Volleyball - Fall 2026 | B3: 8th Grade AAA-AA | C3: St. Margaret Mary Catholic School | D3: Spartans 8th Sweeney | E3: Jocelyn Sweeney
A4: PAL Volleyball - Fall 2026 | B4: 8th Grade AAA-AA | C4: St. Patrick Elkhorn Catholic School | D4: Angels 8th Gold Sova | E4: Tami Sova
A5: PAL Volleyball - Fall 2026 | B5: 8th Grade AAA-AA | C5: St. Robert Bellarmine Catholic School | D5: Cardinals 8th Rudman | E5: Kelli Rudman
A6: PAL Volleyball - Fall 2026 | B6: 8th Grade AAA-AA | C6: St. Stephen the Martyr Catholic School | D6: Flames 8th Johnson | E6: Alison Johnson
A7: PAL Volleyball - Fall 2026 | B7: 8th Grade AAA-AA | C7: St. Thomas More Catholic School | D7: Tigers 8th Gold Godfroy | E7: Karen Godfroy
A8: PAL Volleyball - Fall 2026 | B8: 8th Grade AAA-AA | C8: St. Vincent de Paul Catholic School | D8: Eagles 8th Osborne | E8: Ellen Osborne
A9: PAL Volleyball - Fall 2026 | B9: 8th Grade AAA-AA | C9: St. Vincent de Paul Catholic School | D9: Eagles 8th Gannon | E9: Katie Gannon
A10: PAL Volleyball - Fall 2026 | B10: 8th Grade AAA-AA | C10: St. Wenceslaus Catholic School | D10: Knights 8th Heaney | E10: Sue Heaney
C11: =COUNTA(C2:C10) -> 9
A13: PAL Volleyball - Fall 2026 | B13: 8th Grade A | C13: Christ the King Catholic School | D13: Crusaders 8th Gold Hansen | E13: Suzanne Hansen
A14: PAL Volleyball - Fall 2026 | B14: 8th Grade A | C14: Mary Our Queen Catholic School | D14: Mustangs 8th Welch | E14: Robyn Welch
A15: PAL Volleyball - Fall 2026 | B15: 8th Grade A | C15: Our Lady of Lourdes Catholic School | D15: Panthers 8th Gomez | E15: Ashley Gomez
A16: PAL Volleyball - Fall 2026 | B16: 8th Grade A | C16: St. Albert Catholic School | D16: Saintes 8th Green Wagner | E16: Rachel Wagner
A17: PAL Volleyball - Fall 2026 | B17: 8th Grade A | C17: St. Bernadette Catholic School | D17: Tigers 8th | E17: Mary Beth Wilwerding
A18: PAL Volleyball - Fall 2026 | B18: 8th Grade A | C18: St. Gerald Catholic School | D18: Lions 8th Yochum | E18: Kathy Yochum
A19: PAL Volleyball - Fall 2026 | B19: 8th Grade A | C19: St. James Seton Catholic School | D19: Eagles 8th Anderson | E19: Crystal Anderson
A20: PAL Volleyball - Fall 2026 | B20: 8th Grade A | C20: St. Patrick Elkhorn Catholic School | D20: Angels 8th Green Prochaska | E20: Persephone Prochaska
A21: PAL Volleyball - Fall 2026 | B21: 8th Grade A | C21: St. Philip Neri Catholic School | D21: Eagles 8th Bazer | E21: Adam Bazer
A22: PAL Volleyball - Fall 2026 | B22: 8th Grade A | C22: St. Pius-St. Leo Catholic School | D22: Panthers 8th Gold Philbin | E22: Susie Philbin
A23: PAL Volleyball - Fall 2026 | B23: 8th Grade A | C23: St. Stephen the Martyr Catholic School | D23: Flames 8th Gulbrandson | E23: Michelle Gulbrandson
A24: PAL Volleyball - Fall 2026 | B24: 8th Grade A | C24: St. Wenceslaus Catholic School | D24: Knights 8th Slykhuis | E24: Kristin Slykhuis
C25: =COUNTA(C13:C24) -> 12
A27: PAL Volleyball - Fall 2026 | B27: 8th Grade B Group I | C27: Christ the King Catholic School | D27: Crusaders 8th Purple Hamby | E27: Olivia Hamby
A28: PAL Volleyball - Fall 2026 | B28: 8th Grade B Group I | C28: Holy Name Catholic School | D28: Ramblers 8th Goodman | E28: Katie Goodman
A29: PAL Volleyball - Fall 2026 | B29: 8th Grade B Group I | C29: Mary Our Queen Catholic School | D29: Mustangs 8th Biga | E29: Andrea Biga
A30: PAL Volleyball - Fall 2026 | B30: 8th Grade B Group I | C30: St. Cecilia Catholic School | D30: Cardinals 8th Bidroski | E30: Olivia Bidroski
A31: PAL Volleyball - Fall 2026 | B31: 8th Grade B Group I | C31: St. Margaret Mary Catholic School | D31: Spartans 8th Krovance | E31: Katie Krovance
A32: PAL Volleyball - Fall 2026 | B32: 8th Grade B Group I | C32: St. Pius-St. Leo Catholic School | D32: Panthers 8th Black Gomez | E32: Gabe Gomez
A33: PAL Volleyball - Fall 2026 | B33: 8th Grade B Group I | C33: St. Robert Bellarmine Catholic School | D33: Cardinals 8th Kelsey | E33: Pat Kelsey
A34: PAL Volleyball - Fall 2026 | B34: 8th Grade B Group I | C34: St. Thomas More Catholic School | D34: Tigers 8th Black Owen | E34: Brett Owen
A35: PAL Volleyball - Fall 2026 | B35: 8th Grade B Group I | C35: St. Vincent de Paul Catholic School | D35: Eagles 8th Volpone | E35: Sarah Volpone
C36: =COUNTA(C27:C35) -> 9
A38: PAL Volleyball - Fall 2026 | B38: 8th Grade B Group II | C38: Holy Cross Catholic School | D38: Falcons 8th O'Conner | E38: Angie O'Conner
A39: PAL Volleyball - Fall 2026 | B39: 8th Grade B Group II | C39: John Paul II Academy | D39: Griffins 8th Kraft | E39: Rachel Kraft
A40: PAL Volleyball - Fall 2026 | B40: 8th Grade B Group II | C40: St. Albert Catholic School | D40: Saintes 8th Gold Kohlhaas | E40: Alex Kohlhaas
A41: PAL Volleyball - Fall 2026 | B41: 8th Grade B Group II | C41: St. Columbkille Catholic School | D41: Crusaders 8th Wentz | E41: Emily Wentz
A42: PAL Volleyball - Fall 2026 | B42: 8th Grade B Group II | C42: St. Mary Bellevue Catholic School | D42: Spartans 8th Maxwell | E42: Erick Maxwell
A43: PAL Volleyball - Fall 2026 | B43: 8th Grade B Group II | C43: St. Robert Bellarmine Catholic School | D43: Cardinals 8th Stevens | E43: Karen Stevens
A44: PAL Volleyball - Fall 2026 | B44: 8th Grade B Group II | C44: St. Stephen the Martyr Catholic School | D44: Flames 8th Keller | E44: Brooke Keller
A45: PAL Volleyball - Fall 2026 | B45: 8th Grade B Group II | C45: St. Wenceslaus Catholic School | D45: Knights 8th Lopezrojas | E45: Rachel Lopezrojas
A46: PAL Volleyball - Fall 2026 | B46: 8th Grade B Group II | C46: Sts. Peter & Paul Catholic School | D46: Saints 8th Rojas | E46: Hope Rojas
C47: =COUNTA(C38:C46) -> 9
C49: =C11+C25+C36+C47 -> 39
